BEGIN:VCALENDAR
VERSION:2.0
PRODID:-// - ECPv5.6.0//NONSGML v1.0//EN
CALSCALE:GREGORIAN
METHOD:PUBLISH
X-ORIGINAL-URL:https://www.kiwanis-leuven.be
X-WR-CALDESC:Evenementen voor 
BEGIN:VTIMEZONE
TZID:Europe/Paris
BEGIN:DAYLIGHT
TZOFFSETFROM:+0100
TZOFFSETTO:+0200
TZNAME:CEST
DTSTART:20240331T010000
END:DAYLIGHT
BEGIN:STANDARD
TZOFFSETFROM:+0200
TZOFFSETTO:+0100
TZNAME:CET
DTSTART:20241027T010000
END:STANDARD
END:VTIMEZONE
BEGIN:VEVENT
DTSTART;VALUE=DATE:20240908
DTEND;VALUE=DATE:20240909
DTSTAMP:20260424T171856
CREATED:20240218T155448Z
LAST-MODIFIED:20240502T191653Z
UID:1679-1725753600-1725839999@www.kiwanis-leuven.be
SUMMARY:Kiwanis Leuven On Tour 2024
DESCRIPTION:Op zondag 8 september 2024 organiseert Kiwanis Club Leuven de 8e editie van zijn rondrit ‘ Kiwanis Leuven on Tour’ voor oldtimers en andere pareltjes.\nDe opbrengst gaat integraal naar het goede doel.
URL:https://www.kiwanis-leuven.be/?tribe_events=kiwanis-leuven-on-tour-2024
ORGANIZER;CN="Kiwanis%20Club%20Leuven":MAILTO:bestuur@kiwanisleuven.be
END:VEVENT
END:VCALENDAR