BEGIN:VCALENDAR
VERSION:2.0
PRODID:-// - ECPv5.6.0//NONSGML v1.0//EN
CALSCALE:GREGORIAN
METHOD:PUBLISH
X-ORIGINAL-URL:https://www.kiwanis-leuven.be
X-WR-CALDESC:Evenementen voor 
BEGIN:VTIMEZONE
TZID:Europe/Paris
BEGIN:DAYLIGHT
TZOFFSETFROM:+0100
TZOFFSETTO:+0200
TZNAME:CEST
DTSTART:20210328T010000
END:DAYLIGHT
BEGIN:STANDARD
TZOFFSETFROM:+0200
TZOFFSETTO:+0100
TZNAME:CET
DTSTART:20211031T010000
END:STANDARD
END:VTIMEZONE
BEGIN:VEVENT
DTSTART;VALUE=DATE:20210912
DTEND;VALUE=DATE:20210913
DTSTAMP:20260424T210426
CREATED:20210515T201829Z
LAST-MODIFIED:20210515T202820Z
UID:1518-1631404800-1631491199@www.kiwanis-leuven.be
SUMMARY:Kiwanis Leuven on Tour 2021
DESCRIPTION:Op zondag 12 september 2021 organiseert Kiwanis Club Leuven de 5e editie van zijn rondrit ‘ Kiwanis on tour’ voor oldtimers en andere pareltjes.\nDe opbrengst gaat integraal naar het goede doel.
URL:https://www.kiwanis-leuven.be/?tribe_events=kiwanis-leuven-on-tour-2021
END:VEVENT
END:VCALENDAR