BEGIN:VCALENDAR
VERSION:2.0
PRODID:-// - ECPv5.6.0//NONSGML v1.0//EN
CALSCALE:GREGORIAN
METHOD:PUBLISH
X-ORIGINAL-URL:https://www.kiwanis-leuven.be
X-WR-CALDESC:Evenementen voor 
BEGIN:VTIMEZONE
TZID:Europe/Paris
BEGIN:DAYLIGHT
TZOFFSETFROM:+0100
TZOFFSETTO:+0200
TZNAME:CEST
DTSTART:20220327T010000
END:DAYLIGHT
BEGIN:STANDARD
TZOFFSETFROM:+0200
TZOFFSETTO:+0100
TZNAME:CET
DTSTART:20221030T010000
END:STANDARD
BEGIN:DAYLIGHT
TZOFFSETFROM:+0100
TZOFFSETTO:+0200
TZNAME:CEST
DTSTART:20230326T010000
END:DAYLIGHT
BEGIN:STANDARD
TZOFFSETFROM:+0200
TZOFFSETTO:+0100
TZNAME:CET
DTSTART:20231029T010000
END:STANDARD
END:VTIMEZONE
BEGIN:VEVENT
DTSTART;VALUE=DATE:20221202
DTEND;VALUE=DATE:20230201
DTSTAMP:20260424T194924
CREATED:20221114T194228Z
LAST-MODIFIED:20221116T195621Z
UID:1569-1669939200-1675209599@www.kiwanis-leuven.be
SUMMARY:K-dolls expo Leuven
DESCRIPTION:K-dolls veroveren Leuven\nLeuven wordt tijdens de eindejaarsperiode het decor van het unieke K-dolls project.\nIn december zullen een twintig grote kleurrijke K-dolls de binnenstad opfleuren\, terwijl een 100-tal kleinere exemplaren in de Leuvense etalages terug te vinden zullen zijn.\nMet dit project zamelen we geld in voor projecten ter bestrijding van kinderkansarmoede en willen we tijdens de eindejaarsperiode het probleem van kinderkansarmoede dat ook in onze stad bestaat onder de aandacht brengen. \n 
URL:https://www.kiwanis-leuven.be/?tribe_events=k-dolls-expo-leuven
LOCATION:Leuven centrum\, Leuven\, 3000\, Belgium
ATTACH;FMTTYPE=image/jpeg:https://www.kiwanis-leuven.be/wp-content/uploads/2022/11/01-scaled.jpg
ORGANIZER;CN="Kiwanis%20Club%20Leuven":MAILTO:bestuur@kiwanisleuven.be
END:VEVENT
END:VCALENDAR